BEGIN:VCALENDAR
VERSION:2.0
PRODID:-//Ateneu de Vic - ECPv5.14.1//NONSGML v1.0//EN
CALSCALE:GREGORIAN
METHOD:PUBLISH
X-WR-CALNAME:Ateneu de Vic
X-ORIGINAL-URL:https://ateneudevic.cat
X-WR-CALDESC:Esdeveniments per Ateneu de Vic
BEGIN:VTIMEZONE
TZID:UTC
BEGIN:STANDARD
TZOFFSETFROM:+0000
TZOFFSETTO:+0000
TZNAME:UTC
DTSTART:20210101T000000
END:STANDARD
END:VTIMEZONE
BEGIN:VEVENT
DTSTART;TZID=UTC:20210527T190000
DTEND;TZID=UTC:20210527T190000
DTSTAMP:20260419T144612
CREATED:20210312T193621Z
LAST-MODIFIED:20210325T074434Z
UID:1780-1622142000-1622142000@ateneudevic.cat
SUMMARY:Converses a l'Ateneu de Vic: Humanisme\, ciència i societat. "Perspectives ètiques a l'entorn de la Covid-19"
DESCRIPTION:  \nPots descarregar la informació aquí.
URL:https://ateneudevic.cat/activitat/converses-a-lateneu-de-vic-humanisme-ciencia-i-societat-perspectives-etiques-a-lentorn-de-la-covid-19/
LOCATION:Sala Modernista del Casino de Vic\, Carrer Verdaguer 5\, Vic\, 08500\, Espanya
CATEGORIES:Conferències
ATTACH;FMTTYPE=image/jpeg:https://ateneudevic.cat/wp-content/uploads/2021/03/Invitació-març-maig_-Converses-a-lAteneu-1-e1616008620464.jpeg
GEO:41.9302811;2.2532472
X-APPLE-STRUCTURED-LOCATION;VALUE=URI;X-ADDRESS=Sala Modernista del Casino de Vic Carrer Verdaguer 5 Vic 08500 Espanya;X-APPLE-RADIUS=500;X-TITLE=Carrer Verdaguer 5:geo:2.2532472,41.9302811
END:VEVENT
END:VCALENDAR