BEGIN:VCALENDAR
VERSION:2.0
PRODID:-//Ateneu de Vic - ECPv5.14.1//NONSGML v1.0//EN
CALSCALE:GREGORIAN
METHOD:PUBLISH
X-WR-CALNAME:Ateneu de Vic
X-ORIGINAL-URL:https://ateneudevic.cat
X-WR-CALDESC:Esdeveniments per Ateneu de Vic
BEGIN:VTIMEZONE
TZID:UTC
BEGIN:STANDARD
TZOFFSETFROM:+0000
TZOFFSETTO:+0000
TZNAME:UTC
DTSTART:20210101T000000
END:STANDARD
END:VTIMEZONE
BEGIN:VEVENT
DTSTART;TZID=UTC:20210521T200000
DTEND;TZID=UTC:20210521T200000
DTSTAMP:20260419T161612
CREATED:20210227T143855Z
LAST-MODIFIED:20210414T155449Z
UID:1742-1621627200-1621627200@ateneudevic.cat
SUMMARY:Inauguració de "COMPLICITATS"\, 10e aniversari de l’ACVIC
DESCRIPTION:⦁ Coorganització: ACVIC
URL:https://ateneudevic.cat/activitat/inauguracio-de-complicitats-10e-aniversari-de-lacvic/
LOCATION:Temple romà de Vic\, Carrer del Pare Xifré\, 2\, 08500 Vic\, Barcelona\, Vic\, Espanya
CATEGORIES:Exposicions
ATTACH;FMTTYPE=image/jpeg:https://ateneudevic.cat/wp-content/uploads/2021/03/conferencia-ramon-dabadal-i-de-v.jpg
GEO:41.9294095;2.2569619
X-APPLE-STRUCTURED-LOCATION;VALUE=URI;X-ADDRESS=Temple romà de Vic Carrer del Pare Xifré 2 08500 Vic Barcelona Vic Espanya;X-APPLE-RADIUS=500;X-TITLE=Carrer del Pare Xifré\, 2\, 08500 Vic\, Barcelona:geo:2.2569619,41.9294095
END:VEVENT
END:VCALENDAR